BEGIN:VCALENDAR
VERSION:2.0
PRODID:-//eventon.com NONSGML v1.0//EN
CALSCALE:GREGORIAN
METHOD:PUBLISH
BEGIN:VEVENT
UID:69eb5582a85a8
DTSTAMP:20260424T113530Z
DTSTART:20260516
DTEND:20260517
LOCATION:
SUMMARY:Shakers on the Kentucky Frontier: The Founding of South Union
DESCRIPTION:Celebrating America’s 250th Anniversary. “Shakers on the Ke
 ntucky Frontier: The Founding of South Union” A day-long symposium of pre
 sentations on topics related to the early history of South Union. Noted Sha
 ker scholars Carol Medlicott\,  Doug Winiarski\,  and Christian Goodwillie 
 will explore what drew the Shakers to Kentucky and the fascinating[..]\nhtt
 ps://southunionshakervillage.com/events/shakers-on-the-kentucky-frontier-th
 e-founding-of-south-union/
URL:https://southunionshakervillage.com/events/shakers-on-the-kentucky-frontier-the-founding-of-south-union/
END:VEVENT
END:VCALENDAR