BEGIN:VCALENDAR
VERSION:2.0
PRODID:-//eventon.com NONSGML v1.0//EN
CALSCALE:GREGORIAN
METHOD:PUBLISH
BEGIN:VEVENT
UID:69e9559508a79
DTSTAMP:20260422T231117Z
DTSTART:20211204T000000Z
DTEND:20211204T030000Z
LOCATION:SOUTH UNION SHAKER VILLAGE 896 Shaker Museum Road | Auburn\,  Kentucky 42206
SUMMARY:HOLIDAY MARKET PREVIEW PARTY 2021
DESCRIPTION:[vc_row][vc_column][vc_column_text] SUSV Holiday Market Preview
  Party / Friday\,  December 3 For a “first chance” opportunity to shop\
 ,  make reservations for the&nbsp;Holiday Market Preview Party.&nbsp; Enjoy
  coffee\,  cider and desserts in the most festive of holiday atmospheres.&n
 bsp; Reservations required:&nbsp;&nbsp;$10 per person / Time:&nbsp;&nbsp;6:
 00pm – 9:00pm Masks will be required at this[..]\nhttps://southunionshake
 rvillage.com/events/holiday-market-preview-party-2021/
URL:https://southunionshakervillage.com/events/holiday-market-preview-party-2021/
END:VEVENT
END:VCALENDAR