BEGIN:VCALENDAR
VERSION:2.0
PRODID:-//eventon.com NONSGML v1.0//EN
CALSCALE:GREGORIAN
METHOD:PUBLISH
BEGIN:VEVENT
UID:69e955beb7441
DTSTAMP:20260422T231158Z
DTSTART:20211204T150000Z
DTEND:20211204T220000Z
LOCATION:SOUTH UNION SHAKER VILLAGE 896 Shaker Museum Road | Auburn\,  Kentucky 42206
SUMMARY:HOLIDAY MARKET 2021
DESCRIPTION:[vc_row][vc_column][vc_column_text] SUSV Holiday Market / Satur
 day\,  December 4 One of Kentucky’s finest antique and craft markets\,  j
 ust in time for Christmas!&nbsp;&nbsp;Features over 30 regional antique ven
 dors and artists\,  all nestled in the historic atmosphere of the Centre Ho
 use. Admission: Canned food item or donation Masks will be required at this
 [..]\nhttps://southunionshakervillage.com/events/holiday-market-2021/
URL:https://southunionshakervillage.com/events/holiday-market-2021/
END:VEVENT
END:VCALENDAR