BEGIN:VCALENDAR
VERSION:2.0
PRODID:-//eventon.com NONSGML v1.0//EN
CALSCALE:GREGORIAN
METHOD:PUBLISH
BEGIN:VEVENT
UID:69e955bee2484
DTSTAMP:20260422T231158Z
DTSTART:20211106T133000Z
DTEND:20211107T045000Z
LOCATION:South Union Hotel 396 S Union Road  | Auburn\,  Kentucky 42206
SUMMARY:A SHAKER BREAKFAST
DESCRIPTION:[vc_row][vc_column width=&#8221;1/1&#8243;][vc_column_text] Thi
 s event is sold out. A Shaker Breakfast / Saturday\,  November 6 A Civil Wa
 r-era Shaker breakfast that promises to please and to astonish . . . featur
 ing fried chicken\,  scrambled eggs\,  sweet potatoes\,  pork sausage\,  as
 paragus\,  apple pie\,  buttermilk biscuits and more!&nbsp; Served at the h
 istoric South[..]\nhttps://southunionshakervillage.com/events/a-shaker-brea
 kfast/
URL:https://southunionshakervillage.com/events/a-shaker-breakfast/
END:VEVENT
END:VCALENDAR