BEGIN:VCALENDAR
VERSION:2.0
PRODID:-//eventon.com NONSGML v1.0//EN
CALSCALE:GREGORIAN
METHOD:PUBLISH
BEGIN:VEVENT
UID:69e9559a2d07a
DTSTAMP:20260422T231122Z
DTSTART:20210612T120000Z
DTEND:20210613T045000Z
LOCATION:SOUTH UNION SHAKER VILLAGE 896 Shaker Museum Road | Auburn\,  Kentucky 42206
SUMMARY:SHAKE\,  RIDE & ROLL 2021
DESCRIPTION:[vc_row][vc_column][vc_btn title=&#8221;click to preregister / 
 $20&#8243; style=&#8221;flat&#8221; shape=&#8221;square&#8221; color=&#8221
 ;danger&#8221; size=&#8221;lg&#8221; align=&#8221;left&#8221; i_icon_fontaw
 esome=&#8221;fas fa-biking&#8221; css_animation=&#8221;bounceIn&#8221; add_
 icon=&#8221;true&#8221; link=&#8221;url:https%3A%2F%2Fsouth-union-shaker-vi
 llage.square.site%2Fproduct%2Fsouth-union-shaker-village-bike-event-2021%2F
 126%3Fcp%3Dtrue%26sa%3Dfalse%26sbp%3Dtrue%26q%3Dfalse%26category_id%3D3&#82
 43;][vc_zigzag][vc_column_text]&nbsp; In cooperation with the Bowling Green
  League of Bicyclists (BGLOB)\,  the South Union Shaker Village will host a
  bike ride through the beautiful countryside\,  much of what was originally
  the Shaker’s 6\, 000 acre farm.&nbsp;[..]\nhttps://southunionshakervilla
 ge.com/events/shake-ride-roll-2021/
URL:https://southunionshakervillage.com/events/shake-ride-roll-2021/
END:VEVENT
END:VCALENDAR