BEGIN:VCALENDAR
VERSION:2.0
PRODID:-//eventon.com NONSGML v1.0//EN
CALSCALE:GREGORIAN
METHOD:PUBLISH
BEGIN:VEVENT
UID:69e9559a6b25b
DTSTAMP:20260422T231122Z
DTSTART:20211219T003000Z
DTEND:20211219T055000Z
LOCATION:South Union Hotel 396 S Union Road  | Auburn\,  Kentucky 42206
SUMMARY:SOLD OUT | CHRISTMAS FARM TO TABLE BY CANDLELIGHT
DESCRIPTION:[vc_row height=&#8221;nopadding&#8221;][vc_column][vc_column_te
 xt] THIS EVENT IS SOLD OUT &nbsp; One of our most memorable annual events i
 s this holiday meal\,  catered by River Cottage Farms and served by candlel
 ight in historic South Union Hotel. Guests will be served socially distance
 d with their party. &nbsp; 1st course&nbsp; &nbsp; Toasted sourdough with c
 ranberry[..]\nhttps://southunionshakervillage.com/events/christmas-farm-to-
 table-by-candlelight-2021/
URL:https://southunionshakervillage.com/events/christmas-farm-to-table-by-candlelight-2021/
END:VEVENT
END:VCALENDAR