BEGIN:VCALENDAR
VERSION:2.0
PRODID:-//eventon.com NONSGML v1.0//EN
CALSCALE:GREGORIAN
METHOD:PUBLISH
BEGIN:VEVENT
UID:69e955ec0518a
DTSTAMP:20260422T231244Z
DTSTART:20210904T233000Z
DTEND:20210905T030000Z
LOCATION:1875 GRAIN BARN 896 Shaker Museum Road
SUMMARY:SOLD OUT | FARM TO TABLE IN THE GRAIN BARN
DESCRIPTION:[vc_row height=&#8221;nopadding&#8221;][vc_column][vc_column_te
 xt]This event is sold out _________________________________________________
 _________ The rustic atmosphere of the South Union’s 1875 Grain Barn is t
 he perfect environment for River Cottage Farms’ always-delightful fall me
 nu. Guests will be served socially distanced with their party. Saturday\,  
 September 4\,  6:30 p.m.&nbsp; 1875 Grain Barn Reservations Required / $75/
 person 1st[..]\nhttps://southunionshakervillage.com/events/farm-to-table-in
 -the-grain-barn-2021/
URL:https://southunionshakervillage.com/events/farm-to-table-in-the-grain-barn-2021/
END:VEVENT
END:VCALENDAR