BEGIN:VCALENDAR
VERSION:2.0
PRODID:-//eventon.com NONSGML v1.0//EN
CALSCALE:GREGORIAN
METHOD:PUBLISH
BEGIN:VEVENT
UID:69e95594b7f70
DTSTAMP:20260422T231116Z
DTSTART:20210620T230000Z
DTEND:20210621T105000Z
LOCATION:1854 Wash House 896 Shaker Museum Road
SUMMARY:SOLD OUT | FARM TO TABLE BRUNCH ON THE LAWN
DESCRIPTION:[vc_row height=&#8221;nopadding&#8221;][vc_column width=&#8221;
 1/1&#8243;][vc_btn title=&#8221;purchase tickets&#8221; style=&#8221;outlin
 e-custom&#8221; outline_custom_color=&#8221;#666666&#8243; outline_custom_h
 over_background=&#8221;#666666&#8243; outline_custom_hover_text=&#8221;#fff
 fff&#8221; size=&#8221;lg&#8221; i_type=&#8221;typicons&#8221; i_icon_typic
 ons=&#8221;typcn typcn-shopping-cart&#8221; add_icon=&#8221;true&#8221; lin
 k=&#8221;url:https%3A%2F%2Fsouth-union-shaker-village.square.site%2Fproduct
 %2Fshaker-farm-to-table-brunch-2021%2F121%3Fcp%3Dtrue%26sa%3Dfalse%26sbp%3D
 false%26q%3Dfalse%26category_id%3D3&#8243; css=&#8221;.vc_custom_1615494277
 304{background-color: #ffffff !important;border-radius: 10px !important;}&#
 8221;][/vc_column][/vc_row][vc_row height=&#8221;nopadding&#8221;][vc_colum
 n][vc_column_text]THIS EVENT IS SOLD OUT &nbsp; Enjoy a mid-day Sunday brun
 ch created by River Cottage Farms\,  served under the maple trees in the do
 oryard of the 1854 Wash House. Guests[..]\nhttps://southunionshakervillage.
 com/events/farm-to-table-brunch-on-the-lawn/
URL:https://southunionshakervillage.com/events/farm-to-table-brunch-on-the-lawn/
END:VEVENT
END:VCALENDAR