BEGIN:VCALENDAR
VERSION:2.0
PRODID:-//eventon.com NONSGML v1.0//EN
CALSCALE:GREGORIAN
METHOD:PUBLISH
BEGIN:VEVENT
UID:69e9558ed6ace
DTSTAMP:20260422T231110Z
DTSTART:20210327
DTEND:20210328
LOCATION:SOUTH UNION SHAKER VILLAGE 896 Shaker Museum Road | Auburn\,  Kentucky 42206
SUMMARY:Vintage Baseball Game
DESCRIPTION:[vc_row][vc_column width=&#8221;1/1&#8243;][vc_column_text]Expe
 rience baseball like it was played in the late 19th century\,  when the Can
 ton\,  Michigan Cornshuckers and the Bluegrass Barons play two seven-inning
  games on the lawn at South Union Shaker Village\,  Saturday March 27\,  12
 :30 p.m. until 4:30 p.m.&nbsp; Admission is $5 for adults and $2 for childr
 en\, [..]\nhttps://southunionshakervillage.com/events/vintage-baseball-game
 /
URL:https://southunionshakervillage.com/events/vintage-baseball-game/
END:VEVENT
END:VCALENDAR